BEGIN:VCALENDAR
VERSION:2.0
PRODID:-//Royal Family eSports - ECPv6.1.0.2//NONSGML v1.0//EN
CALSCALE:GREGORIAN
METHOD:PUBLISH
X-ORIGINAL-URL:https://rfe.lu
X-WR-CALDESC:Events for Royal Family eSports
REFRESH-INTERVAL;VALUE=DURATION:PT1H
X-Robots-Tag:noindex
X-PUBLISHED-TTL:PT1H
BEGIN:VTIMEZONE
TZID:UTC
BEGIN:STANDARD
TZOFFSETFROM:+0000
TZOFFSETTO:+0000
TZNAME:UTC
DTSTART:20210101T000000
END:STANDARD
END:VTIMEZONE
BEGIN:VEVENT
DTSTART;TZID=UTC:20210207T140000
DTEND;TZID=UTC:20210207T200000
DTSTAMP:20260421T213823
CREATED:20201207T140040Z
LAST-MODIFIED:20210101T105938Z
UID:1483-1612706400-1612728000@rfe.lu
SUMMARY:Royal Family CUP Clash Royale III
DESCRIPTION:On this date we will be organizing the third of 6 regular Clash Royale tournaments. \nIt will be live-streamed on our Twitch Channel. \nStarting Time:     14h00\nCash Prize:           50€ (1st place) \nTournament System: \nQualifier:               1 hour in-game tournament \nTop 16:                   single-elimination bracket (BO3 /BO5) \n  \nEverybody who qualifies for the Top 16 in this tournament will be awarded points\, which are added up in order to qualify for the finals weekend! \nFor regular updates on the event follow us on our socials \n  \n  \nSign up here\n 
URL:https://rfe.lu/event/rfcup-cr-3/
LOCATION:Twitch/ Discord
CATEGORIES:Tournaments
END:VEVENT
END:VCALENDAR