BEGIN:VCALENDAR
VERSION:2.0
PRODID:-//Royal Family eSports - ECPv6.1.0.2//NONSGML v1.0//EN
CALSCALE:GREGORIAN
METHOD:PUBLISH
X-WR-CALNAME:Royal Family eSports
X-ORIGINAL-URL:https://rfe.lu
X-WR-CALDESC:Events for Royal Family eSports
REFRESH-INTERVAL;VALUE=DURATION:PT1H
X-Robots-Tag:noindex
X-PUBLISHED-TTL:PT1H
BEGIN:VTIMEZONE
TZID:UTC
BEGIN:STANDARD
TZOFFSETFROM:+0000
TZOFFSETTO:+0000
TZNAME:UTC
DTSTART:20210101T000000
END:STANDARD
END:VTIMEZONE
BEGIN:VEVENT
DTSTART;TZID=UTC:20210307T140000
DTEND;TZID=UTC:20210307T200000
DTSTAMP:20260422T220236
CREATED:20201124T230634Z
LAST-MODIFIED:20210101T110556Z
UID:1487-1615125600-1615147200@rfe.lu
SUMMARY:Royal Family CUP Clash Royale V
DESCRIPTION:On this date we will be organizing the fifth of 6 regular Clash Royale tournaments. \nIt will be live-streamed on our Twitch Channel. \nStarting Time:     14h00\nCash Prize:           50€ (1st place) \nTournament System: \nQualifier:               1 hour in-game tournament \nTop 16:                   single-elimination bracket (BO3 /BO5) \n  \nEverybody who qualifies for the Top 16 in this tournament will be awarded points\, which are added up in order to qualify for the finals weekend! \n  \nFor regular updates on the event follow us on our socials \n  \n  \nSign up here
URL:https://rfe.lu/event/rfcup-cr-5/
LOCATION:Twitch/ Discord
CATEGORIES:Tournaments
END:VEVENT
BEGIN:VEVENT
DTSTART;TZID=UTC:20210321T140000
DTEND;TZID=UTC:20210321T200000
DTSTAMP:20260422T220236
CREATED:20201124T230710Z
LAST-MODIFIED:20210101T110807Z
UID:1489-1616335200-1616356800@rfe.lu
SUMMARY:Royal Family CUP Brawl Stars V
DESCRIPTION:On this date we will be organizing the fifth of 6 regular Brawl Stars tournaments. \nIt will be live-streamed on our Twitch Channel. \nStarting Time:     14h00\nCash Prize:           90€ (1st place) \nTournament System: \nSingle-elimination bracket \nAll rounds including Quarterfinals:     BO5 on a predetermined Gem Grab Map \nSemi Finals:                                               BO3 on 3 Maps (with altering Game Modes) \nFinals:                                                         BO3 on 5 Maps (with altering Game Modes) \n  \nEverybody who qualifies for the Top 16 in this tournament will be awarded points\, which are added up in order to qualify for the finals weekend! \n  \nFor regular updates on the event follow us on our socials! \n  \n  \nSign up here
URL:https://rfe.lu/event/rfcup-bs-5/
LOCATION:Twitch/ Discord
CATEGORIES:Tournaments
END:VEVENT
END:VCALENDAR